BEGIN:VCALENDAR
VERSION:2.0
PRODID:-//Tallinna Prantsuse Lütseum - ECPv5.14.0.4//NONSGML v1.0//EN
CALSCALE:GREGORIAN
METHOD:PUBLISH
X-WR-CALNAME:Tallinna Prantsuse Lütseum
X-ORIGINAL-URL:https://www.tpl.edu.ee
X-WR-CALDESC:Events for Tallinna Prantsuse Lütseum
REFRESH-INTERVAL;VALUE=DURATION:PT1H
X-Robots-Tag:noindex
X-PUBLISHED-TTL:PT1H
BEGIN:VTIMEZONE
TZID:Europe/Tallinn
BEGIN:DAYLIGHT
TZOFFSETFROM:+0200
TZOFFSETTO:+0300
TZNAME:EEST
DTSTART:20250330T010000
END:DAYLIGHT
BEGIN:STANDARD
TZOFFSETFROM:+0300
TZOFFSETTO:+0200
TZNAME:EET
DTSTART:20251026T010000
END:STANDARD
END:VTIMEZONE
BEGIN:VEVENT
DTSTART;TZID=Europe/Tallinn:20250210T120000
DTEND;TZID=Europe/Tallinn:20250210T170000
DTSTAMP:20260420T231413
CREATED:20250109T111941Z
LAST-MODIFIED:20250109T111941Z
UID:23159-1739188800-1739206800@www.tpl.edu.ee
SUMMARY:Segakoori I eelproov Vene kultuurikeskuses
DESCRIPTION:
URL:https://www.tpl.edu.ee/sundmus/segakoori-i-eelproov-vene-kultuurikeskuses/
LOCATION:Tallinn\, Eesti
END:VEVENT
BEGIN:VEVENT
DTSTART;TZID=Europe/Tallinn:20250211T084500
DTEND;TZID=Europe/Tallinn:20250211T120000
DTSTAMP:20260420T231413
CREATED:20250110T111236Z
LAST-MODIFIED:20250110T111432Z
UID:23170-1739263500-1739275200@www.tpl.edu.ee
SUMMARY:Poistekoori I eelproov Vene kultuurikeskuses
DESCRIPTION:
URL:https://www.tpl.edu.ee/sundmus/poistekoori-i-eelproov/
LOCATION:Tallinn\, Eesti
END:VEVENT
BEGIN:VEVENT
DTSTART;VALUE=DATE:20250212
DTEND;VALUE=DATE:20250215
DTSTAMP:20260420T231413
CREATED:20241230T115558Z
LAST-MODIFIED:20250124T070600Z
UID:23127-1739318400-1739577599@www.tpl.edu.ee
SUMMARY:Stiilipäevad
DESCRIPTION:
URL:https://www.tpl.edu.ee/sundmus/stiilipaevad-3/
LOCATION:Tallinn\, Eesti
END:VEVENT
BEGIN:VEVENT
DTSTART;TZID=Europe/Tallinn:20250213T140000
DTEND;TZID=Europe/Tallinn:20250213T140000
DTSTAMP:20260420T231413
CREATED:20250203T082150Z
LAST-MODIFIED:20250203T082150Z
UID:23380-1739455200-1739455200@www.tpl.edu.ee
SUMMARY:VIIa klass Ülo Soosteri näitust Mikkeli muuseumis
DESCRIPTION:
URL:https://www.tpl.edu.ee/sundmus/viia-klass-ulo-soosteri-naitust-mikkeli-muuseumis/
LOCATION:Tallinn\, Eesti
END:VEVENT
BEGIN:VEVENT
DTSTART;VALUE=DATE:20250214
DTEND;VALUE=DATE:20250215
DTSTAMP:20260420T231413
CREATED:20240902T131140Z
LAST-MODIFIED:20240916T102116Z
UID:22344-1739491200-1739577599@www.tpl.edu.ee
SUMMARY:X-XI klassi 5 kursusega aine 3. hinne
DESCRIPTION:
URL:https://www.tpl.edu.ee/sundmus/x-xi-klassi-5-kursusega-aine-3-hinne/
LOCATION:Tallinn\, Eesti
END:VEVENT
BEGIN:VEVENT
DTSTART;VALUE=DATE:20250214
DTEND;VALUE=DATE:20250215
DTSTAMP:20260420T231413
CREATED:20241230T115651Z
LAST-MODIFIED:20241230T115651Z
UID:23129-1739491200-1739577599@www.tpl.edu.ee
SUMMARY:Sõbrapäeva tähistamine
DESCRIPTION:
URL:https://www.tpl.edu.ee/sundmus/sobrapaeva-tahistamine-3/
LOCATION:Tallinn\, Eesti
END:VEVENT
BEGIN:VEVENT
DTSTART;TZID=Europe/Tallinn:20250214T150000
DTEND;TZID=Europe/Tallinn:20250214T200000
DTSTAMP:20260420T231413
CREATED:20250109T112127Z
LAST-MODIFIED:20250109T112127Z
UID:23163-1739545200-1739563200@www.tpl.edu.ee
SUMMARY:Neidudekoori I eelproov Vene kultuurikeskuses
DESCRIPTION:
URL:https://www.tpl.edu.ee/sundmus/neidudekoori-i-eelproov-vene-kultuurikeskuses/
LOCATION:Tallinn\, Eesti
END:VEVENT
BEGIN:VEVENT
DTSTART;TZID=Europe/Tallinn:20250214T190000
DTEND;TZID=Europe/Tallinn:20250214T190000
DTSTAMP:20260420T231413
CREATED:20241108T074947Z
LAST-MODIFIED:20241108T074947Z
UID:22986-1739559600-1739559600@www.tpl.edu.ee
SUMMARY:IXb klass etendusel "Kauka jumal"
DESCRIPTION:
URL:https://www.tpl.edu.ee/sundmus/ixb-klass-etendusel-kauka-jumal/
LOCATION:Tallinn\, Eesti
END:VEVENT
BEGIN:VEVENT
DTSTART;TZID=Europe/Tallinn:20250214T190000
DTEND;TZID=Europe/Tallinn:20250214T190000
DTSTAMP:20260420T231413
CREATED:20250114T084951Z
LAST-MODIFIED:20250114T084951Z
UID:23182-1739559600-1739559600@www.tpl.edu.ee
SUMMARY:IXB VAT Teatris "Kauka jumal"
DESCRIPTION:
URL:https://www.tpl.edu.ee/sundmus/ixb-vat-teatris-kauka-jumal/
LOCATION:Tallinn\, Eesti
END:VEVENT
BEGIN:VEVENT
DTSTART;VALUE=DATE:20250215
DTEND;VALUE=DATE:20250217
DTSTAMP:20260420T231413
CREATED:20241203T114557Z
LAST-MODIFIED:20250124T070638Z
UID:23072-1739577600-1739750399@www.tpl.edu.ee
SUMMARY:I klassi astujate õpivalmiduse hindamine
DESCRIPTION:
URL:https://www.tpl.edu.ee/sundmus/i-klassi-astujate-opivalmiduse-hindamine-2/
LOCATION:Tallinn\, Eesti
END:VEVENT
END:VCALENDAR