BEGIN:VCALENDAR
VERSION:2.0
PRODID:-//Tallinna Prantsuse Lütseum - ECPv5.14.0.4//NONSGML v1.0//EN
CALSCALE:GREGORIAN
METHOD:PUBLISH
X-WR-CALNAME:Tallinna Prantsuse Lütseum
X-ORIGINAL-URL:https://tpl.edu.ee
X-WR-CALDESC:Events for Tallinna Prantsuse Lütseum
REFRESH-INTERVAL;VALUE=DURATION:PT1H
X-Robots-Tag:noindex
X-PUBLISHED-TTL:PT1H
BEGIN:VTIMEZONE
TZID:Europe/Tallinn
BEGIN:DAYLIGHT
TZOFFSETFROM:+0200
TZOFFSETTO:+0300
TZNAME:EEST
DTSTART:20240331T010000
END:DAYLIGHT
BEGIN:STANDARD
TZOFFSETFROM:+0300
TZOFFSETTO:+0200
TZNAME:EET
DTSTART:20241027T010000
END:STANDARD
END:VTIMEZONE
BEGIN:VEVENT
DTSTART;VALUE=DATE:20241216
DTEND;VALUE=DATE:20241220
DTSTAMP:20260421T080606
CREATED:20241016T131834Z
LAST-MODIFIED:20241204T075258Z
UID:22896-1734307200-1734652799@tpl.edu.ee
SUMMARY:Jõulukohvik
DESCRIPTION:
URL:https://tpl.edu.ee/sundmus/joulukohvik-2/
LOCATION:Tallinn\, Eesti
END:VEVENT
BEGIN:VEVENT
DTSTART;VALUE=DATE:20241216
DTEND;VALUE=DATE:20241217
DTSTAMP:20260421T080606
CREATED:20241126T093626Z
LAST-MODIFIED:20241126T093626Z
UID:23053-1734307200-1734393599@tpl.edu.ee
SUMMARY:Gümnaasiumi uurimistööde esitamine
DESCRIPTION:
URL:https://tpl.edu.ee/sundmus/gumnaasiumi-uurimistoode-esitamine-2/
LOCATION:Tallinn\, Eesti
END:VEVENT
END:VCALENDAR