BEGIN:VCALENDAR
VERSION:2.0
PRODID:-//Tallinna Prantsuse Lütseum - ECPv5.14.0.4//NONSGML v1.0//EN
CALSCALE:GREGORIAN
METHOD:PUBLISH
X-WR-CALNAME:Tallinna Prantsuse Lütseum
X-ORIGINAL-URL:https://www.tpl.edu.ee
X-WR-CALDESC:Events for Tallinna Prantsuse Lütseum
REFRESH-INTERVAL;VALUE=DURATION:PT1H
X-Robots-Tag:noindex
X-PUBLISHED-TTL:PT1H
BEGIN:VTIMEZONE
TZID:Europe/Tallinn
BEGIN:DAYLIGHT
TZOFFSETFROM:+0200
TZOFFSETTO:+0300
TZNAME:EEST
DTSTART:20240331T010000
END:DAYLIGHT
BEGIN:STANDARD
TZOFFSETFROM:+0300
TZOFFSETTO:+0200
TZNAME:EET
DTSTART:20241027T010000
END:STANDARD
END:VTIMEZONE
BEGIN:VEVENT
DTSTART;TZID=Europe/Tallinn:20241212T100000
DTEND;TZID=Europe/Tallinn:20241212T100000
DTSTAMP:20260421T080605
CREATED:20241014T095356Z
LAST-MODIFIED:20241209T084254Z
UID:22879-1733997600-1733997600@www.tpl.edu.ee
SUMMARY:IIIa\, IIIb ja Vb klass Valge saali jõulukontsert Estonias
DESCRIPTION:
URL:https://www.tpl.edu.ee/sundmus/valge-saali-joulukontsert-estonias-2/
LOCATION:Tallinn\, Eesti
END:VEVENT
BEGIN:VEVENT
DTSTART;TZID=Europe/Tallinn:20241212T120000
DTEND;TZID=Europe/Tallinn:20241212T120000
DTSTAMP:20260421T080605
CREATED:20241009T080921Z
LAST-MODIFIED:20241009T080921Z
UID:22866-1734004800-1734004800@www.tpl.edu.ee
SUMMARY:VIIa ja VIIb klass Draamateatris vaatamas etendust "Luidrik"
DESCRIPTION:
URL:https://www.tpl.edu.ee/sundmus/viia-ja-viib-klass-draamateatris-vaatamas-etendust-luidrik-2/
LOCATION:Tallinn\, Eesti
END:VEVENT
BEGIN:VEVENT
DTSTART;TZID=Europe/Tallinn:20241212T120000
DTEND;TZID=Europe/Tallinn:20241212T120000
DTSTAMP:20260421T080605
CREATED:20241014T095422Z
LAST-MODIFIED:20241209T084158Z
UID:22881-1734004800-1734004800@www.tpl.edu.ee
SUMMARY:IIa\, IIb ja IVb klass Valge saali jõulukontsert Estonias
DESCRIPTION:
URL:https://www.tpl.edu.ee/sundmus/valge-saali-joulukontsert-estonias-3/
LOCATION:Tallinn\, Eesti
END:VEVENT
END:VCALENDAR